BEGIN:VCALENDAR
VERSION:2.0
PRODID:-//ChamberMaster//Event Calendar 2.0//EN
METHOD:PUBLISH
X-PUBLISHED-TTL:P3D
REFRESH-INTERVAL:P3D
CALSCALE:GREGORIAN
BEGIN:VEVENT
DTSTART:20100414T133000Z
DTEND:20100414T143000Z
X-MICROSOFT-CDO-ALLDAYEVENT:FALSE
SUMMARY:Women's Networking April
DESCRIPTION:Are you properly covered as an independent business owner?Join us Wednesday morning as Riehn Insurance answers all the important insurance questions.
X-ALT-DESC;FMTTYPE=text/html:<div><div style="margin: 0in 0in 0pt">&nbsp\;<div id="pastedDivNode" name="pastedNode" style="display: inline"><div align="center">Are you properly covered as an independent business owner?</div><div align="center">Join us Wednesday morning as Riehn Insurance answers all the important insurance questions.</div></div></div></div>
LOCATION:Julius Meinl4363 N. Lincoln
UID:e.697.305
SEQUENCE:3
DTSTAMP:20260421T141359Z
URL:http://lincolnsquareravenswood.smartcms.site/events/details/women-s-networking-april-305
END:VEVENT

END:VCALENDAR
