BEGIN:VCALENDAR
VERSION:2.0
PRODID:-//ChamberMaster//Event Calendar 2.0//EN
METHOD:PUBLISH
X-PUBLISHED-TTL:P3D
REFRESH-INTERVAL:P3D
CALSCALE:GREGORIAN
BEGIN:VEVENT
DTSTART:20100613T180000Z
DTEND:20100613T220000Z
X-MICROSOFT-CDO-ALLDAYEVENT:FALSE
SUMMARY:World Cup Viewing Party
DESCRIPTION:Watch Germany score at DANK Haus\n\nFree admission\n\nProjection Screens\n\nFamily friendly\n\nGermany v Australia\n\nPop\, Beer\, Pretzel & Landjaeger available
X-ALT-DESC;FMTTYPE=text/html:Watch Germany score at DANK Haus\n<br>Free admission\n<br>Projection Screens\n<br>Family friendly\n<br>Germany v Australia\n<br>Pop\, Beer\, Pretzel & Landjaeger available\n<br>
LOCATION:4740 N Western Ave
UID:e.697.551
SEQUENCE:3
DTSTAMP:20260421T093247Z
URL:http://lincolnsquareravenswood.smartcms.site/events/details/world-cup-viewing-party-551
END:VEVENT

END:VCALENDAR
