BEGIN:VCALENDAR
VERSION:2.0
PRODID:-//ChamberMaster//Event Calendar 2.0//EN
METHOD:PUBLISH
X-PUBLISHED-TTL:P3D
REFRESH-INTERVAL:P3D
CALSCALE:GREGORIAN
BEGIN:VEVENT
DTSTART:20100618T180000Z
DTEND:20100618T204500Z
X-MICROSOFT-CDO-ALLDAYEVENT:FALSE
SUMMARY:World Cup Viewing Party Ger v Serbia Recording
DESCRIPTION:Despite some setbacks in the team roster\, it's no reason not to cheer on the Germans as they duke it out with Serbia.
X-ALT-DESC;FMTTYPE=text/html:Despite some setbacks in the team roster\, it's no reason not to cheer on the Germans as they duke it out with Serbia.\n<br>
LOCATION:
UID:e.697.559
SEQUENCE:3
DTSTAMP:20260421T093411Z
URL:http://lincolnsquareravenswood.smartcms.site/events/details/world-cup-viewing-party-ger-v-serbia-recording-559
END:VEVENT

END:VCALENDAR
