BEGIN:VCALENDAR
VERSION:2.0
PRODID:-//ChamberMaster//Event Calendar 2.0//EN
METHOD:PUBLISH
X-PUBLISHED-TTL:P3D
REFRESH-INTERVAL:P3D
CALSCALE:GREGORIAN
BEGIN:VEVENT
DTSTART:20120712T000000Z
DTEND:20120712T010000Z
X-MICROSOFT-CDO-ALLDAYEVENT:FALSE
SUMMARY:YEA - Young Entrepreneurs Academy Information Session
DESCRIPTION:The Young Entrepreneurs Academy is an exciting\, fun\, projects-based afterschool program that empowers students just like you to start and run your own\, real business or social movement.\n\n\n\nUnlike a typical class\, in the Academy you will learn the foundations of business as you launch your own company and master key skills from local entrepreneurs and dynamic trips to local businesses!\n\n\n\nIf you're a student who has drive\, passion\, and enthusiasm\, you can begin learning the skills that will change your life. No business experience is required\; onlu a drive to succeed.\n\n\n\nCome in and join us for the information session and learn how to complete your local application and take the next step to secure your future!\n\n\n\nApplications are now accepted for 6-8th graders.
X-ALT-DESC;FMTTYPE=text/html:The Young Entrepreneurs Academy is an exciting\, fun\, projects-based afterschool program that empowers students just like you to start and run your own\, real business or social movement.<br />\n<br />\nUnlike a typical class\, in the Academy you will learn the foundations of business as you launch your own company and master key skills from local entrepreneurs and dynamic trips to local businesses!<br />\n<br />\nIf you&#39\;re a student who has drive\, passion\, and enthusiasm\, you can begin learning the skills that will change your life. No business experience is required\; onlu a drive to succeed.<br />\n<br />\nCome in and join us for the information session and learn how to complete your local application and take the next step to secure your future!<br />\n<br />\nApplications are now accepted for 6-8th graders. 
LOCATION:@ the DANK-Haus 4740 N. Western Ave.
UID:e.697.3590
SEQUENCE:3
DTSTAMP:20260419T183308Z
URL:http://lincolnsquareravenswood.smartcms.site/events/details/yea-young-entrepreneurs-academy-information-session-3590
END:VEVENT

END:VCALENDAR
